BEGIN:VCALENDAR
VERSION:2.0
PRODID:-//startmj.com.br - ECPv6.15.20//NONSGML v1.0//EN
CALSCALE:GREGORIAN
METHOD:PUBLISH
X-ORIGINAL-URL:https://startmj.com.br
X-WR-CALDESC:Eventos para startmj.com.br
REFRESH-INTERVAL;VALUE=DURATION:PT1H
X-Robots-Tag:noindex
X-PUBLISHED-TTL:PT1H
BEGIN:VTIMEZONE
TZID:America/Halifax
BEGIN:DAYLIGHT
TZOFFSETFROM:-0400
TZOFFSETTO:-0300
TZNAME:ADT
DTSTART:20240310T060000
END:DAYLIGHT
BEGIN:STANDARD
TZOFFSETFROM:-0300
TZOFFSETTO:-0400
TZNAME:AST
DTSTART:20241103T050000
END:STANDARD
BEGIN:DAYLIGHT
TZOFFSETFROM:-0400
TZOFFSETTO:-0300
TZNAME:ADT
DTSTART:20250309T060000
END:DAYLIGHT
BEGIN:STANDARD
TZOFFSETFROM:-0300
TZOFFSETTO:-0400
TZNAME:AST
DTSTART:20251102T050000
END:STANDARD
BEGIN:DAYLIGHT
TZOFFSETFROM:-0400
TZOFFSETTO:-0300
TZNAME:ADT
DTSTART:20260308T060000
END:DAYLIGHT
BEGIN:STANDARD
TZOFFSETFROM:-0300
TZOFFSETTO:-0400
TZNAME:AST
DTSTART:20261101T050000
END:STANDARD
END:VTIMEZONE
BEGIN:VEVENT
DTSTART;VALUE=DATE:20250304
DTEND;VALUE=DATE:20250305
DTSTAMP:20260424T111632
CREATED:20250304T020820Z
LAST-MODIFIED:20250304T020820Z
UID:1084-1741046400-1741132799@startmj.com.br
SUMMARY:Paradise
DESCRIPTION:Paradise – Final de temporada
URL:https://startmj.com.br/event/paradise/
CATEGORIES:Filmes e Series
ATTACH;FMTTYPE=image/jpeg:https://startmj.com.br/wp-content/uploads/2025/03/20250220193512_scale-1-1-.jpg
END:VEVENT
BEGIN:VEVENT
DTSTART;VALUE=DATE:20250304
DTEND;VALUE=DATE:20250305
DTSTAMP:20260424T111632
CREATED:20250304T020058Z
LAST-MODIFIED:20251105T021335Z
UID:1077-1741046400-1741132799@startmj.com.br
SUMMARY:Demolidor: Renascido
DESCRIPTION:Demolidor: Renascido é uma futura série de televisão estadunidense criada por Dario Scardapane\, Christopher Ord e Matthew Corman para o Disney+\, baseada no personagem Demolidor\, da Marvel Comics. Será a décima terceira série de televisão do Universo Cinematográfico Marvel (UCM) produzido pela Marvel Studios\, através de seu selo Marvel Television\, compartilhando continuidade com os filmes da franquia. Born Again é um revival e continuação de Daredevil (2015–2018)\, uma série anterior produzida pela produtora anterior da Marvel Television e originalmente lançada na Netflix. Dario Scardapane é o showrunner\, com Justin Benson e Aaron Moorhead como diretores principais.
URL:https://startmj.com.br/event/demolidor-renascido/
CATEGORIES:Filmes e Series
ATTACH;FMTTYPE=image/jpeg:https://startmj.com.br/wp-content/uploads/2025/03/demolidor_renascido_capa__02581fo02.jpg
END:VEVENT
END:VCALENDAR